BEGIN:VCALENDAR
VERSION:2.0
PRODID:-//Funnys Äventyr - ECPv6.15.17//NONSGML v1.0//EN
CALSCALE:GREGORIAN
METHOD:PUBLISH
X-ORIGINAL-URL:https://funnysaventyr.se
X-WR-CALDESC:Händelser för Funnys Äventyr
REFRESH-INTERVAL;VALUE=DURATION:PT1H
X-Robots-Tag:noindex
X-PUBLISHED-TTL:PT1H
BEGIN:VTIMEZONE
TZID:Europe/Stockholm
BEGIN:DAYLIGHT
TZOFFSETFROM:+0100
TZOFFSETTO:+0200
TZNAME:CEST
DTSTART:20250330T010000
END:DAYLIGHT
BEGIN:STANDARD
TZOFFSETFROM:+0200
TZOFFSETTO:+0100
TZNAME:CET
DTSTART:20251026T010000
END:STANDARD
BEGIN:DAYLIGHT
TZOFFSETFROM:+0100
TZOFFSETTO:+0200
TZNAME:CEST
DTSTART:20260329T010000
END:DAYLIGHT
BEGIN:STANDARD
TZOFFSETFROM:+0200
TZOFFSETTO:+0100
TZNAME:CET
DTSTART:20261025T010000
END:STANDARD
BEGIN:DAYLIGHT
TZOFFSETFROM:+0100
TZOFFSETTO:+0200
TZNAME:CEST
DTSTART:20270328T010000
END:DAYLIGHT
BEGIN:STANDARD
TZOFFSETFROM:+0200
TZOFFSETTO:+0100
TZNAME:CET
DTSTART:20271031T010000
END:STANDARD
END:VTIMEZONE
BEGIN:VEVENT
DTSTART;TZID=Europe/Stockholm:20260507T140000
DTEND;TZID=Europe/Stockholm:20260507T141500
DTSTAMP:20260425T134456
CREATED:20260422T070251Z
LAST-MODIFIED:20260422T070251Z
UID:10025041-1778162400-1778163300@funnysaventyr.se
SUMMARY:Mästerkatten i stövlar 😼
DESCRIPTION:En listig katt med stora stövlar som hjälper sin fattiga ägare nå framgång\, rikedom och kärlek.
URL:https://funnysaventyr.se/event/masterkatten-i-stovlar-%f0%9f%98%bc-2/2026-05-07/
LOCATION:Teaterladan
CATEGORIES:Masterkatten
END:VEVENT
BEGIN:VEVENT
DTSTART;TZID=Europe/Stockholm:20260508T103000
DTEND;TZID=Europe/Stockholm:20260508T104500
DTSTAMP:20260425T134456
CREATED:20260422T070353Z
LAST-MODIFIED:20260422T070353Z
UID:10025051-1778236200-1778237100@funnysaventyr.se
SUMMARY:Mästerkatten i stövlar 😼
DESCRIPTION:En listig katt med stora stövlar som hjälper sin fattiga ägare nå framgång\, rikedom och kärlek.
URL:https://funnysaventyr.se/event/masterkatten-i-stovlar-%f0%9f%98%bc-3/2026-05-08/1/
LOCATION:Teaterladan
CATEGORIES:Masterkatten
END:VEVENT
BEGIN:VEVENT
DTSTART;TZID=Europe/Stockholm:20260508T133000
DTEND;TZID=Europe/Stockholm:20260508T134500
DTSTAMP:20260425T134456
CREATED:20260422T070353Z
LAST-MODIFIED:20260422T070353Z
UID:10025052-1778247000-1778247900@funnysaventyr.se
SUMMARY:Mästerkatten i stövlar 😼
DESCRIPTION:En listig katt med stora stövlar som hjälper sin fattiga ägare nå framgång\, rikedom och kärlek.
URL:https://funnysaventyr.se/event/masterkatten-i-stovlar-%f0%9f%98%bc-3/2026-05-08/2/
LOCATION:Teaterladan
CATEGORIES:Masterkatten
END:VEVENT
BEGIN:VEVENT
DTSTART;TZID=Europe/Stockholm:20260508T153000
DTEND;TZID=Europe/Stockholm:20260508T154500
DTSTAMP:20260425T134456
CREATED:20260422T070353Z
LAST-MODIFIED:20260422T070353Z
UID:10025053-1778254200-1778255100@funnysaventyr.se
SUMMARY:Mästerkatten i stövlar 😼
DESCRIPTION:En listig katt med stora stövlar som hjälper sin fattiga ägare nå framgång\, rikedom och kärlek.
URL:https://funnysaventyr.se/event/masterkatten-i-stovlar-%f0%9f%98%bc-3/2026-05-08/3/
LOCATION:Teaterladan
CATEGORIES:Masterkatten
END:VEVENT
BEGIN:VEVENT
DTSTART;TZID=Europe/Stockholm:20260509T113000
DTEND;TZID=Europe/Stockholm:20260509T114500
DTSTAMP:20260425T134456
CREATED:20260422T071236Z
LAST-MODIFIED:20260422T071236Z
UID:10025108-1778326200-1778327100@funnysaventyr.se
SUMMARY:Sagan om Pomperipossa med den långa näsan 🤥
DESCRIPTION:En prins och prinsessa går vilse långt in i skogen där trollpackan Pomperipossa bor..
URL:https://funnysaventyr.se/event/sagan-om-pomperipossa-med-den-langa-nasan-%f0%9f%a4%a5-52/2026-05-09/1/
LOCATION:Teaterladan
CATEGORIES:Pomperipossa
END:VEVENT
BEGIN:VEVENT
DTSTART;TZID=Europe/Stockholm:20260509T133000
DTEND;TZID=Europe/Stockholm:20260509T134500
DTSTAMP:20260425T134456
CREATED:20260422T071236Z
LAST-MODIFIED:20260422T071236Z
UID:10025109-1778333400-1778334300@funnysaventyr.se
SUMMARY:Sagan om Pomperipossa med den långa näsan 🤥
DESCRIPTION:En prins och prinsessa går vilse långt in i skogen där trollpackan Pomperipossa bor..
URL:https://funnysaventyr.se/event/sagan-om-pomperipossa-med-den-langa-nasan-%f0%9f%a4%a5-52/2026-05-09/2/
LOCATION:Teaterladan
CATEGORIES:Pomperipossa
END:VEVENT
BEGIN:VEVENT
DTSTART;TZID=Europe/Stockholm:20260509T153000
DTEND;TZID=Europe/Stockholm:20260509T154500
DTSTAMP:20260425T134456
CREATED:20260422T071236Z
LAST-MODIFIED:20260422T071236Z
UID:10025110-1778340600-1778341500@funnysaventyr.se
SUMMARY:Sagan om Pomperipossa med den långa näsan 🤥
DESCRIPTION:En prins och prinsessa går vilse långt in i skogen där trollpackan Pomperipossa bor..
URL:https://funnysaventyr.se/event/sagan-om-pomperipossa-med-den-langa-nasan-%f0%9f%a4%a5-52/2026-05-09/3/
LOCATION:Teaterladan
CATEGORIES:Pomperipossa
END:VEVENT
BEGIN:VEVENT
DTSTART;TZID=Europe/Stockholm:20260510T113000
DTEND;TZID=Europe/Stockholm:20260510T114500
DTSTAMP:20260425T134456
CREATED:20260422T072249Z
LAST-MODIFIED:20260422T072249Z
UID:10025120-1778412600-1778413500@funnysaventyr.se
SUMMARY:Mästerkatten i stövlar 😼
DESCRIPTION:En listig katt med stora stövlar som hjälper sin fattiga ägare nå framgång\, rikedom och kärlek.
URL:https://funnysaventyr.se/event/masterkatten-i-stovlar-%f0%9f%98%bc-4/2026-05-10/1/
LOCATION:Teaterladan
CATEGORIES:Masterkatten
END:VEVENT
BEGIN:VEVENT
DTSTART;TZID=Europe/Stockholm:20260510T133000
DTEND;TZID=Europe/Stockholm:20260510T134500
DTSTAMP:20260425T134456
CREATED:20260422T072249Z
LAST-MODIFIED:20260422T072249Z
UID:10025121-1778419800-1778420700@funnysaventyr.se
SUMMARY:Mästerkatten i stövlar 😼
DESCRIPTION:En listig katt med stora stövlar som hjälper sin fattiga ägare nå framgång\, rikedom och kärlek.
URL:https://funnysaventyr.se/event/masterkatten-i-stovlar-%f0%9f%98%bc-4/2026-05-10/2/
LOCATION:Teaterladan
CATEGORIES:Masterkatten
END:VEVENT
BEGIN:VEVENT
DTSTART;TZID=Europe/Stockholm:20260510T153000
DTEND;TZID=Europe/Stockholm:20260510T154500
DTSTAMP:20260425T134456
CREATED:20260422T072249Z
LAST-MODIFIED:20260422T072249Z
UID:10025122-1778427000-1778427900@funnysaventyr.se
SUMMARY:Mästerkatten i stövlar 😼
DESCRIPTION:En listig katt med stora stövlar som hjälper sin fattiga ägare nå framgång\, rikedom och kärlek.
URL:https://funnysaventyr.se/event/masterkatten-i-stovlar-%f0%9f%98%bc-4/2026-05-10/3/
LOCATION:Teaterladan
CATEGORIES:Masterkatten
END:VEVENT
BEGIN:VEVENT
DTSTART;TZID=Europe/Stockholm:20260512T103000
DTEND;TZID=Europe/Stockholm:20260512T104500
DTSTAMP:20260425T134456
CREATED:20260422T082146Z
LAST-MODIFIED:20260422T082146Z
UID:10025389-1778581800-1778582700@funnysaventyr.se
SUMMARY:Mästerkatten i stövlar 😼
DESCRIPTION:En listig katt med stora stövlar som hjälper sin fattiga ägare nå framgång\, rikedom och kärlek.
URL:https://funnysaventyr.se/event/masterkatten-i-stovlar-%f0%9f%98%bc-5/2026-05-12/
LOCATION:Teaterladan
CATEGORIES:Masterkatten
END:VEVENT
BEGIN:VEVENT
DTSTART;TZID=Europe/Stockholm:20260512T140000
DTEND;TZID=Europe/Stockholm:20260512T141500
DTSTAMP:20260425T134456
CREATED:20260422T073109Z
LAST-MODIFIED:20260422T073109Z
UID:10025144-1778594400-1778595300@funnysaventyr.se
SUMMARY:Mästerkatten i stövlar 😼
DESCRIPTION:En listig katt med stora stövlar som hjälper sin fattiga ägare nå framgång\, rikedom och kärlek.
URL:https://funnysaventyr.se/event/masterkatten-i-stovlar-%f0%9f%98%bc-6/2026-05-12/
LOCATION:Teaterladan
CATEGORIES:Masterkatten
END:VEVENT
BEGIN:VEVENT
DTSTART;TZID=Europe/Stockholm:20260513T103000
DTEND;TZID=Europe/Stockholm:20260513T104500
DTSTAMP:20260425T134456
CREATED:20260422T082146Z
LAST-MODIFIED:20260422T082146Z
UID:10025390-1778668200-1778669100@funnysaventyr.se
SUMMARY:Mästerkatten i stövlar 😼
DESCRIPTION:En listig katt med stora stövlar som hjälper sin fattiga ägare nå framgång\, rikedom och kärlek.
URL:https://funnysaventyr.se/event/masterkatten-i-stovlar-%f0%9f%98%bc-5/2026-05-13/
LOCATION:Teaterladan
CATEGORIES:Masterkatten
END:VEVENT
BEGIN:VEVENT
DTSTART;TZID=Europe/Stockholm:20260513T140000
DTEND;TZID=Europe/Stockholm:20260513T141500
DTSTAMP:20260425T134456
CREATED:20260422T073109Z
LAST-MODIFIED:20260422T073109Z
UID:10025145-1778680800-1778681700@funnysaventyr.se
SUMMARY:Mästerkatten i stövlar 😼
DESCRIPTION:En listig katt med stora stövlar som hjälper sin fattiga ägare nå framgång\, rikedom och kärlek.
URL:https://funnysaventyr.se/event/masterkatten-i-stovlar-%f0%9f%98%bc-6/2026-05-13/
LOCATION:Teaterladan
CATEGORIES:Masterkatten
END:VEVENT
BEGIN:VEVENT
DTSTART;TZID=Europe/Stockholm:20260514T103000
DTEND;TZID=Europe/Stockholm:20260514T104500
DTSTAMP:20260425T134456
CREATED:20260422T082146Z
LAST-MODIFIED:20260422T082146Z
UID:10025391-1778754600-1778755500@funnysaventyr.se
SUMMARY:Mästerkatten i stövlar 😼
DESCRIPTION:En listig katt med stora stövlar som hjälper sin fattiga ägare nå framgång\, rikedom och kärlek.
URL:https://funnysaventyr.se/event/masterkatten-i-stovlar-%f0%9f%98%bc-5/2026-05-14/
LOCATION:Teaterladan
CATEGORIES:Masterkatten
END:VEVENT
BEGIN:VEVENT
DTSTART;TZID=Europe/Stockholm:20260514T140000
DTEND;TZID=Europe/Stockholm:20260514T141500
DTSTAMP:20260425T134456
CREATED:20260422T073109Z
LAST-MODIFIED:20260422T073109Z
UID:10025146-1778767200-1778768100@funnysaventyr.se
SUMMARY:Mästerkatten i stövlar 😼
DESCRIPTION:En listig katt med stora stövlar som hjälper sin fattiga ägare nå framgång\, rikedom och kärlek.
URL:https://funnysaventyr.se/event/masterkatten-i-stovlar-%f0%9f%98%bc-6/2026-05-14/
LOCATION:Teaterladan
CATEGORIES:Masterkatten
END:VEVENT
BEGIN:VEVENT
DTSTART;TZID=Europe/Stockholm:20260515T103000
DTEND;TZID=Europe/Stockholm:20260515T104500
DTSTAMP:20260425T134456
CREATED:20260422T082146Z
LAST-MODIFIED:20260422T082146Z
UID:10025392-1778841000-1778841900@funnysaventyr.se
SUMMARY:Mästerkatten i stövlar 😼
DESCRIPTION:En listig katt med stora stövlar som hjälper sin fattiga ägare nå framgång\, rikedom och kärlek.
URL:https://funnysaventyr.se/event/masterkatten-i-stovlar-%f0%9f%98%bc-5/2026-05-15/1/
LOCATION:Teaterladan
CATEGORIES:Masterkatten
END:VEVENT
BEGIN:VEVENT
DTSTART;TZID=Europe/Stockholm:20260515T133000
DTEND;TZID=Europe/Stockholm:20260515T134500
DTSTAMP:20260425T134456
CREATED:20260422T082146Z
LAST-MODIFIED:20260422T082146Z
UID:10025393-1778851800-1778852700@funnysaventyr.se
SUMMARY:Mästerkatten i stövlar 😼
DESCRIPTION:En listig katt med stora stövlar som hjälper sin fattiga ägare nå framgång\, rikedom och kärlek.
URL:https://funnysaventyr.se/event/masterkatten-i-stovlar-%f0%9f%98%bc-5/2026-05-15/2/
LOCATION:Teaterladan
CATEGORIES:Masterkatten
END:VEVENT
BEGIN:VEVENT
DTSTART;TZID=Europe/Stockholm:20260515T153000
DTEND;TZID=Europe/Stockholm:20260515T154500
DTSTAMP:20260425T134456
CREATED:20260422T082146Z
LAST-MODIFIED:20260422T082146Z
UID:10025394-1778859000-1778859900@funnysaventyr.se
SUMMARY:Mästerkatten i stövlar 😼
DESCRIPTION:En listig katt med stora stövlar som hjälper sin fattiga ägare nå framgång\, rikedom och kärlek.
URL:https://funnysaventyr.se/event/masterkatten-i-stovlar-%f0%9f%98%bc-5/2026-05-15/3/
LOCATION:Teaterladan
CATEGORIES:Masterkatten
END:VEVENT
BEGIN:VEVENT
DTSTART;TZID=Europe/Stockholm:20260516T113000
DTEND;TZID=Europe/Stockholm:20260516T114500
DTSTAMP:20260425T134456
CREATED:20260422T073723Z
LAST-MODIFIED:20260422T073723Z
UID:10025183-1778931000-1778931900@funnysaventyr.se
SUMMARY:Sagan om Pomperipossa med den långa näsan 🤥
DESCRIPTION:En prins och prinsessa går vilse långt in i skogen där trollpackan Pomperipossa bor..
URL:https://funnysaventyr.se/event/sagan-om-pomperipossa-med-den-langa-nasan-%f0%9f%a4%a5-53/2026-05-16/1/
LOCATION:Teaterladan
CATEGORIES:Pomperipossa
END:VEVENT
BEGIN:VEVENT
DTSTART;TZID=Europe/Stockholm:20260516T133000
DTEND;TZID=Europe/Stockholm:20260516T134500
DTSTAMP:20260425T134457
CREATED:20260422T073723Z
LAST-MODIFIED:20260422T073723Z
UID:10025184-1778938200-1778939100@funnysaventyr.se
SUMMARY:Sagan om Pomperipossa med den långa näsan 🤥
DESCRIPTION:En prins och prinsessa går vilse långt in i skogen där trollpackan Pomperipossa bor..
URL:https://funnysaventyr.se/event/sagan-om-pomperipossa-med-den-langa-nasan-%f0%9f%a4%a5-53/2026-05-16/2/
LOCATION:Teaterladan
CATEGORIES:Pomperipossa
END:VEVENT
BEGIN:VEVENT
DTSTART;TZID=Europe/Stockholm:20260516T153000
DTEND;TZID=Europe/Stockholm:20260516T154500
DTSTAMP:20260425T134457
CREATED:20260422T073723Z
LAST-MODIFIED:20260422T073723Z
UID:10025185-1778945400-1778946300@funnysaventyr.se
SUMMARY:Sagan om Pomperipossa med den långa näsan 🤥
DESCRIPTION:En prins och prinsessa går vilse långt in i skogen där trollpackan Pomperipossa bor..
URL:https://funnysaventyr.se/event/sagan-om-pomperipossa-med-den-langa-nasan-%f0%9f%a4%a5-53/2026-05-16/3/
LOCATION:Teaterladan
CATEGORIES:Pomperipossa
END:VEVENT
BEGIN:VEVENT
DTSTART;TZID=Europe/Stockholm:20260517T113000
DTEND;TZID=Europe/Stockholm:20260517T114500
DTSTAMP:20260425T134457
CREATED:20260422T073723Z
LAST-MODIFIED:20260422T073723Z
UID:10025186-1779017400-1779018300@funnysaventyr.se
SUMMARY:Sagan om Pomperipossa med den långa näsan 🤥
DESCRIPTION:En prins och prinsessa går vilse långt in i skogen där trollpackan Pomperipossa bor..
URL:https://funnysaventyr.se/event/sagan-om-pomperipossa-med-den-langa-nasan-%f0%9f%a4%a5-53/2026-05-17/1/
LOCATION:Teaterladan
CATEGORIES:Pomperipossa
END:VEVENT
BEGIN:VEVENT
DTSTART;TZID=Europe/Stockholm:20260517T133000
DTEND;TZID=Europe/Stockholm:20260517T134500
DTSTAMP:20260425T134457
CREATED:20260422T073723Z
LAST-MODIFIED:20260422T073723Z
UID:10025187-1779024600-1779025500@funnysaventyr.se
SUMMARY:Sagan om Pomperipossa med den långa näsan 🤥
DESCRIPTION:En prins och prinsessa går vilse långt in i skogen där trollpackan Pomperipossa bor..
URL:https://funnysaventyr.se/event/sagan-om-pomperipossa-med-den-langa-nasan-%f0%9f%a4%a5-53/2026-05-17/2/
LOCATION:Teaterladan
CATEGORIES:Pomperipossa
END:VEVENT
BEGIN:VEVENT
DTSTART;TZID=Europe/Stockholm:20260517T153000
DTEND;TZID=Europe/Stockholm:20260517T154500
DTSTAMP:20260425T134457
CREATED:20260422T073723Z
LAST-MODIFIED:20260422T073723Z
UID:10025188-1779031800-1779032700@funnysaventyr.se
SUMMARY:Sagan om Pomperipossa med den långa näsan 🤥
DESCRIPTION:En prins och prinsessa går vilse långt in i skogen där trollpackan Pomperipossa bor..
URL:https://funnysaventyr.se/event/sagan-om-pomperipossa-med-den-langa-nasan-%f0%9f%a4%a5-53/2026-05-17/3/
LOCATION:Teaterladan
CATEGORIES:Pomperipossa
END:VEVENT
BEGIN:VEVENT
DTSTART;TZID=Europe/Stockholm:20260519T103000
DTEND;TZID=Europe/Stockholm:20260519T104500
DTSTAMP:20260425T134457
CREATED:20260422T074125Z
LAST-MODIFIED:20260422T081502Z
UID:10025336-1779186600-1779187500@funnysaventyr.se
SUMMARY:Mästerkatten i stövlar 😼
DESCRIPTION:En listig katt med stora stövlar som hjälper sin fattiga ägare nå framgång\, rikedom och kärlek.
URL:https://funnysaventyr.se/event/masterkatten-i-stovlar-%f0%9f%98%bc-7/2026-05-19/
LOCATION:Teaterladan
CATEGORIES:Masterkatten
END:VEVENT
BEGIN:VEVENT
DTSTART;TZID=Europe/Stockholm:20260519T140000
DTEND;TZID=Europe/Stockholm:20260519T141500
DTSTAMP:20260425T134457
CREATED:20260422T074700Z
LAST-MODIFIED:20260422T074700Z
UID:10025246-1779199200-1779200100@funnysaventyr.se
SUMMARY:Mästerkatten i stövlar 😼
DESCRIPTION:En listig katt med stora stövlar som hjälper sin fattiga ägare nå framgång\, rikedom och kärlek.
URL:https://funnysaventyr.se/event/masterkatten-i-stovlar-%f0%9f%98%bc-8/2026-05-19/
LOCATION:Teaterladan
CATEGORIES:Masterkatten
END:VEVENT
BEGIN:VEVENT
DTSTART;TZID=Europe/Stockholm:20260520T103000
DTEND;TZID=Europe/Stockholm:20260520T104500
DTSTAMP:20260425T134457
CREATED:20260422T074125Z
LAST-MODIFIED:20260422T081502Z
UID:10025337-1779273000-1779273900@funnysaventyr.se
SUMMARY:Mästerkatten i stövlar 😼
DESCRIPTION:En listig katt med stora stövlar som hjälper sin fattiga ägare nå framgång\, rikedom och kärlek.
URL:https://funnysaventyr.se/event/masterkatten-i-stovlar-%f0%9f%98%bc-7/2026-05-20/
LOCATION:Teaterladan
CATEGORIES:Masterkatten
END:VEVENT
BEGIN:VEVENT
DTSTART;TZID=Europe/Stockholm:20260520T140000
DTEND;TZID=Europe/Stockholm:20260520T141500
DTSTAMP:20260425T134457
CREATED:20260422T074700Z
LAST-MODIFIED:20260422T074700Z
UID:10025247-1779285600-1779286500@funnysaventyr.se
SUMMARY:Mästerkatten i stövlar 😼
DESCRIPTION:En listig katt med stora stövlar som hjälper sin fattiga ägare nå framgång\, rikedom och kärlek.
URL:https://funnysaventyr.se/event/masterkatten-i-stovlar-%f0%9f%98%bc-8/2026-05-20/
LOCATION:Teaterladan
CATEGORIES:Masterkatten
END:VEVENT
BEGIN:VEVENT
DTSTART;TZID=Europe/Stockholm:20260521T103000
DTEND;TZID=Europe/Stockholm:20260521T104500
DTSTAMP:20260425T134457
CREATED:20260422T074125Z
LAST-MODIFIED:20260422T081502Z
UID:10025338-1779359400-1779360300@funnysaventyr.se
SUMMARY:Mästerkatten i stövlar 😼
DESCRIPTION:En listig katt med stora stövlar som hjälper sin fattiga ägare nå framgång\, rikedom och kärlek.
URL:https://funnysaventyr.se/event/masterkatten-i-stovlar-%f0%9f%98%bc-7/2026-05-21/
LOCATION:Teaterladan
CATEGORIES:Masterkatten
END:VEVENT
END:VCALENDAR