BEGIN:VCALENDAR
VERSION:2.0
PRODID:-//Funnys Äventyr - ECPv6.15.17//NONSGML v1.0//EN
CALSCALE:GREGORIAN
METHOD:PUBLISH
X-WR-CALNAME:Funnys Äventyr
X-ORIGINAL-URL:https://funnysaventyr.se
X-WR-CALDESC:Händelser för Funnys Äventyr
REFRESH-INTERVAL;VALUE=DURATION:PT1H
X-Robots-Tag:noindex
X-PUBLISHED-TTL:PT1H
BEGIN:VTIMEZONE
TZID:Europe/Stockholm
BEGIN:DAYLIGHT
TZOFFSETFROM:+0100
TZOFFSETTO:+0200
TZNAME:CEST
DTSTART:20250330T010000
END:DAYLIGHT
BEGIN:STANDARD
TZOFFSETFROM:+0200
TZOFFSETTO:+0100
TZNAME:CET
DTSTART:20251026T010000
END:STANDARD
BEGIN:DAYLIGHT
TZOFFSETFROM:+0100
TZOFFSETTO:+0200
TZNAME:CEST
DTSTART:20260329T010000
END:DAYLIGHT
BEGIN:STANDARD
TZOFFSETFROM:+0200
TZOFFSETTO:+0100
TZNAME:CET
DTSTART:20261025T010000
END:STANDARD
BEGIN:DAYLIGHT
TZOFFSETFROM:+0100
TZOFFSETTO:+0200
TZNAME:CEST
DTSTART:20270328T010000
END:DAYLIGHT
BEGIN:STANDARD
TZOFFSETFROM:+0200
TZOFFSETTO:+0100
TZNAME:CET
DTSTART:20271031T010000
END:STANDARD
END:VTIMEZONE
BEGIN:VEVENT
DTSTART;TZID=Europe/Stockholm:20260530T113000
DTEND;TZID=Europe/Stockholm:20260530T114500
DTSTAMP:20260425T205618
CREATED:20260422T080742Z
LAST-MODIFIED:20260422T080742Z
UID:10025276-1780140600-1780141500@funnysaventyr.se
SUMMARY:Sagan om Pomperipossa med den långa näsan 🤥
DESCRIPTION:En prins och prinsessa går vilse långt in i skogen där trollpackan Pomperipossa bor..
URL:https://funnysaventyr.se/event/sagan-om-pomperipossa-med-den-langa-nasan-%f0%9f%a4%a5-54/2026-05-30/1/
LOCATION:Teaterladan
CATEGORIES:Pomperipossa
END:VEVENT
BEGIN:VEVENT
DTSTART;TZID=Europe/Stockholm:20260530T133000
DTEND;TZID=Europe/Stockholm:20260530T134500
DTSTAMP:20260425T205618
CREATED:20260422T080742Z
LAST-MODIFIED:20260422T080742Z
UID:10025277-1780147800-1780148700@funnysaventyr.se
SUMMARY:Sagan om Pomperipossa med den långa näsan 🤥
DESCRIPTION:En prins och prinsessa går vilse långt in i skogen där trollpackan Pomperipossa bor..
URL:https://funnysaventyr.se/event/sagan-om-pomperipossa-med-den-langa-nasan-%f0%9f%a4%a5-54/2026-05-30/2/
LOCATION:Teaterladan
CATEGORIES:Pomperipossa
END:VEVENT
BEGIN:VEVENT
DTSTART;TZID=Europe/Stockholm:20260530T153000
DTEND;TZID=Europe/Stockholm:20260530T154500
DTSTAMP:20260425T205618
CREATED:20260422T080742Z
LAST-MODIFIED:20260422T080742Z
UID:10025278-1780155000-1780155900@funnysaventyr.se
SUMMARY:Sagan om Pomperipossa med den långa näsan 🤥
DESCRIPTION:En prins och prinsessa går vilse långt in i skogen där trollpackan Pomperipossa bor..
URL:https://funnysaventyr.se/event/sagan-om-pomperipossa-med-den-langa-nasan-%f0%9f%a4%a5-54/2026-05-30/3/
LOCATION:Teaterladan
CATEGORIES:Pomperipossa
END:VEVENT
END:VCALENDAR