BEGIN:VCALENDAR
VERSION:2.0
PRODID:-//Funnys Äventyr - ECPv6.15.17//NONSGML v1.0//EN
CALSCALE:GREGORIAN
METHOD:PUBLISH
X-WR-CALNAME:Funnys Äventyr
X-ORIGINAL-URL:https://funnysaventyr.se/da/
X-WR-CALDESC:Begivenheder for Funnys Äventyr
REFRESH-INTERVAL;VALUE=DURATION:PT1H
X-Robots-Tag:noindex
X-PUBLISHED-TTL:PT1H
BEGIN:VTIMEZONE
TZID:Europe/Stockholm
BEGIN:DAYLIGHT
TZOFFSETFROM:+0100
TZOFFSETTO:+0200
TZNAME:CEST
DTSTART:20250330T010000
END:DAYLIGHT
BEGIN:STANDARD
TZOFFSETFROM:+0200
TZOFFSETTO:+0100
TZNAME:CET
DTSTART:20251026T010000
END:STANDARD
BEGIN:DAYLIGHT
TZOFFSETFROM:+0100
TZOFFSETTO:+0200
TZNAME:CEST
DTSTART:20260329T010000
END:DAYLIGHT
BEGIN:STANDARD
TZOFFSETFROM:+0200
TZOFFSETTO:+0100
TZNAME:CET
DTSTART:20261025T010000
END:STANDARD
BEGIN:DAYLIGHT
TZOFFSETFROM:+0100
TZOFFSETTO:+0200
TZNAME:CEST
DTSTART:20270328T010000
END:DAYLIGHT
BEGIN:STANDARD
TZOFFSETFROM:+0200
TZOFFSETTO:+0100
TZNAME:CET
DTSTART:20271031T010000
END:STANDARD
END:VTIMEZONE
BEGIN:VEVENT
DTSTART;TZID=Europe/Stockholm:20260421T103000
DTEND;TZID=Europe/Stockholm:20260421T104500
DTSTAMP:20260420T113706
CREATED:20260319T082010Z
LAST-MODIFIED:20260320T130706Z
UID:10024734-1776767400-1776768300@funnysaventyr.se
SUMMARY:Den Bestøvlede Kat 😼
DESCRIPTION:En snedig kat i store støvler\, der hjælper sin stakkels ejer med at opnå succes\, rigdom og kærlighed.
URL:https://funnysaventyr.se/da/event/den-bestoevlede-kat-%f0%9f%98%bc-17/2026-04-21/
LOCATION:Teaterladan
CATEGORIES:Mesterkatten
END:VEVENT
BEGIN:VEVENT
DTSTART;TZID=Europe/Stockholm:20260421T140000
DTEND;TZID=Europe/Stockholm:20260421T141500
DTSTAMP:20260420T113706
CREATED:20260319T082056Z
LAST-MODIFIED:20260320T125924Z
UID:10024752-1776780000-1776780900@funnysaventyr.se
SUMMARY:Den Bestøvlede Kat 😼
DESCRIPTION:En snedig kat i store støvler\, der hjælper sin stakkels ejer med at opnå succes\, rigdom og kærlighed.
URL:https://funnysaventyr.se/da/event/den-bestoevlede-kat-%f0%9f%98%bc-18/2026-04-21/
LOCATION:Teaterladan
CATEGORIES:Mesterkatten
END:VEVENT
BEGIN:VEVENT
DTSTART;TZID=Europe/Stockholm:20260422T103000
DTEND;TZID=Europe/Stockholm:20260422T104500
DTSTAMP:20260420T113706
CREATED:20260319T082010Z
LAST-MODIFIED:20260320T130706Z
UID:10024735-1776853800-1776854700@funnysaventyr.se
SUMMARY:Den Bestøvlede Kat 😼
DESCRIPTION:En snedig kat i store støvler\, der hjælper sin stakkels ejer med at opnå succes\, rigdom og kærlighed.
URL:https://funnysaventyr.se/da/event/den-bestoevlede-kat-%f0%9f%98%bc-17/2026-04-22/
LOCATION:Teaterladan
CATEGORIES:Mesterkatten
END:VEVENT
BEGIN:VEVENT
DTSTART;TZID=Europe/Stockholm:20260422T140000
DTEND;TZID=Europe/Stockholm:20260422T141500
DTSTAMP:20260420T113706
CREATED:20260319T082056Z
LAST-MODIFIED:20260320T125924Z
UID:10024753-1776866400-1776867300@funnysaventyr.se
SUMMARY:Den Bestøvlede Kat 😼
DESCRIPTION:En snedig kat i store støvler\, der hjælper sin stakkels ejer med at opnå succes\, rigdom og kærlighed.
URL:https://funnysaventyr.se/da/event/den-bestoevlede-kat-%f0%9f%98%bc-18/2026-04-22/
LOCATION:Teaterladan
CATEGORIES:Mesterkatten
END:VEVENT
BEGIN:VEVENT
DTSTART;TZID=Europe/Stockholm:20260423T103000
DTEND;TZID=Europe/Stockholm:20260423T104500
DTSTAMP:20260420T113706
CREATED:20260319T082010Z
LAST-MODIFIED:20260320T130706Z
UID:10024736-1776940200-1776941100@funnysaventyr.se
SUMMARY:Den Bestøvlede Kat 😼
DESCRIPTION:En snedig kat i store støvler\, der hjælper sin stakkels ejer med at opnå succes\, rigdom og kærlighed.
URL:https://funnysaventyr.se/da/event/den-bestoevlede-kat-%f0%9f%98%bc-17/2026-04-23/
LOCATION:Teaterladan
CATEGORIES:Mesterkatten
END:VEVENT
BEGIN:VEVENT
DTSTART;TZID=Europe/Stockholm:20260423T140000
DTEND;TZID=Europe/Stockholm:20260423T141500
DTSTAMP:20260420T113706
CREATED:20260319T082056Z
LAST-MODIFIED:20260320T125924Z
UID:10024754-1776952800-1776953700@funnysaventyr.se
SUMMARY:Den Bestøvlede Kat 😼
DESCRIPTION:En snedig kat i store støvler\, der hjælper sin stakkels ejer med at opnå succes\, rigdom og kærlighed.
URL:https://funnysaventyr.se/da/event/den-bestoevlede-kat-%f0%9f%98%bc-18/2026-04-23/
LOCATION:Teaterladan
CATEGORIES:Mesterkatten
END:VEVENT
BEGIN:VEVENT
DTSTART;TZID=Europe/Stockholm:20260424T103000
DTEND;TZID=Europe/Stockholm:20260424T104500
DTSTAMP:20260420T113706
CREATED:20260319T082010Z
LAST-MODIFIED:20260320T130706Z
UID:10024737-1777026600-1777027500@funnysaventyr.se
SUMMARY:Den Bestøvlede Kat 😼
DESCRIPTION:En snedig kat i store støvler\, der hjælper sin stakkels ejer med at opnå succes\, rigdom og kærlighed.
URL:https://funnysaventyr.se/da/event/den-bestoevlede-kat-%f0%9f%98%bc-17/2026-04-24/1/
LOCATION:Teaterladan
CATEGORIES:Mesterkatten
END:VEVENT
BEGIN:VEVENT
DTSTART;TZID=Europe/Stockholm:20260424T133000
DTEND;TZID=Europe/Stockholm:20260424T134500
DTSTAMP:20260420T113706
CREATED:20260319T082010Z
LAST-MODIFIED:20260320T130706Z
UID:10024738-1777037400-1777038300@funnysaventyr.se
SUMMARY:Den Bestøvlede Kat 😼
DESCRIPTION:En snedig kat i store støvler\, der hjælper sin stakkels ejer med at opnå succes\, rigdom og kærlighed.
URL:https://funnysaventyr.se/da/event/den-bestoevlede-kat-%f0%9f%98%bc-17/2026-04-24/2/
LOCATION:Teaterladan
CATEGORIES:Mesterkatten
END:VEVENT
BEGIN:VEVENT
DTSTART;TZID=Europe/Stockholm:20260424T153000
DTEND;TZID=Europe/Stockholm:20260424T154500
DTSTAMP:20260420T113706
CREATED:20260319T082010Z
LAST-MODIFIED:20260320T130706Z
UID:10024739-1777044600-1777045500@funnysaventyr.se
SUMMARY:Den Bestøvlede Kat 😼
DESCRIPTION:En snedig kat i store støvler\, der hjælper sin stakkels ejer med at opnå succes\, rigdom og kærlighed.
URL:https://funnysaventyr.se/da/event/den-bestoevlede-kat-%f0%9f%98%bc-17/2026-04-24/3/
LOCATION:Teaterladan
CATEGORIES:Mesterkatten
END:VEVENT
BEGIN:VEVENT
DTSTART;TZID=Europe/Stockholm:20260425T113000
DTEND;TZID=Europe/Stockholm:20260425T114500
DTSTAMP:20260420T113706
CREATED:20260319T082432Z
LAST-MODIFIED:20260417T125530Z
UID:10024761-1777116600-1777117500@funnysaventyr.se
SUMMARY:Den Bestøvlede Kat 😼
DESCRIPTION:En snedig kat i store støvler\, der hjælper sin stakkels ejer med at opnå succes\, rigdom og kærlighed.
URL:https://funnysaventyr.se/da/event/historien-om-pomperipossa-med-den-lange-naese-%f0%9f%a4%a5-17/2026-04-25/1/
LOCATION:Teaterladan
CATEGORIES:Mesterkatten
END:VEVENT
BEGIN:VEVENT
DTSTART;TZID=Europe/Stockholm:20260425T133000
DTEND;TZID=Europe/Stockholm:20260425T134500
DTSTAMP:20260420T113706
CREATED:20260319T082432Z
LAST-MODIFIED:20260417T125530Z
UID:10024762-1777123800-1777124700@funnysaventyr.se
SUMMARY:Den Bestøvlede Kat 😼
DESCRIPTION:En snedig kat i store støvler\, der hjælper sin stakkels ejer med at opnå succes\, rigdom og kærlighed.
URL:https://funnysaventyr.se/da/event/historien-om-pomperipossa-med-den-lange-naese-%f0%9f%a4%a5-17/2026-04-25/2/
LOCATION:Teaterladan
CATEGORIES:Mesterkatten
END:VEVENT
BEGIN:VEVENT
DTSTART;TZID=Europe/Stockholm:20260425T153000
DTEND;TZID=Europe/Stockholm:20260425T154500
DTSTAMP:20260420T113706
CREATED:20260319T082432Z
LAST-MODIFIED:20260417T125530Z
UID:10024763-1777131000-1777131900@funnysaventyr.se
SUMMARY:Den Bestøvlede Kat 😼
DESCRIPTION:En snedig kat i store støvler\, der hjælper sin stakkels ejer med at opnå succes\, rigdom og kærlighed.
URL:https://funnysaventyr.se/da/event/historien-om-pomperipossa-med-den-lange-naese-%f0%9f%a4%a5-17/2026-04-25/3/
LOCATION:Teaterladan
CATEGORIES:Mesterkatten
END:VEVENT
BEGIN:VEVENT
DTSTART;TZID=Europe/Stockholm:20260426T113000
DTEND;TZID=Europe/Stockholm:20260426T114500
DTSTAMP:20260420T113706
CREATED:20260319T082432Z
LAST-MODIFIED:20260417T125530Z
UID:10024764-1777203000-1777203900@funnysaventyr.se
SUMMARY:Den Bestøvlede Kat 😼
DESCRIPTION:En snedig kat i store støvler\, der hjælper sin stakkels ejer med at opnå succes\, rigdom og kærlighed.
URL:https://funnysaventyr.se/da/event/historien-om-pomperipossa-med-den-lange-naese-%f0%9f%a4%a5-17/2026-04-26/1/
LOCATION:Teaterladan
CATEGORIES:Mesterkatten
END:VEVENT
BEGIN:VEVENT
DTSTART;TZID=Europe/Stockholm:20260426T133000
DTEND;TZID=Europe/Stockholm:20260426T134500
DTSTAMP:20260420T113706
CREATED:20260319T082432Z
LAST-MODIFIED:20260417T125530Z
UID:10024765-1777210200-1777211100@funnysaventyr.se
SUMMARY:Den Bestøvlede Kat 😼
DESCRIPTION:En snedig kat i store støvler\, der hjælper sin stakkels ejer med at opnå succes\, rigdom og kærlighed.
URL:https://funnysaventyr.se/da/event/historien-om-pomperipossa-med-den-lange-naese-%f0%9f%a4%a5-17/2026-04-26/2/
LOCATION:Teaterladan
CATEGORIES:Mesterkatten
END:VEVENT
BEGIN:VEVENT
DTSTART;TZID=Europe/Stockholm:20260426T153000
DTEND;TZID=Europe/Stockholm:20260426T154500
DTSTAMP:20260420T113706
CREATED:20260319T082432Z
LAST-MODIFIED:20260417T125530Z
UID:10024766-1777217400-1777218300@funnysaventyr.se
SUMMARY:Den Bestøvlede Kat 😼
DESCRIPTION:En snedig kat i store støvler\, der hjælper sin stakkels ejer med at opnå succes\, rigdom og kærlighed.
URL:https://funnysaventyr.se/da/event/historien-om-pomperipossa-med-den-lange-naese-%f0%9f%a4%a5-17/2026-04-26/3/
LOCATION:Teaterladan
CATEGORIES:Mesterkatten
END:VEVENT
BEGIN:VEVENT
DTSTART;TZID=Europe/Stockholm:20260428T100000
DTEND;TZID=Europe/Stockholm:20260428T170000
DTSTAMP:20260420T113706
CREATED:20260325T083236Z
LAST-MODIFIED:20260325T083236Z
UID:10025006-1777370400-1777395600@funnysaventyr.se
SUMMARY:I dag er der abonnement på teatret hele dagen 💬
DESCRIPTION:Vi erstatter teatret med masser af ekstra sjov ude i eventyrverdenen. ✨
URL:https://funnysaventyr.se/da/event/i-dag-er-der-abonnement-paa-teatret-hele-dagen-%f0%9f%92%ac/
END:VEVENT
BEGIN:VEVENT
DTSTART;TZID=Europe/Stockholm:20260429T103000
DTEND;TZID=Europe/Stockholm:20260429T104500
DTSTAMP:20260420T113706
CREATED:20260319T082639Z
LAST-MODIFIED:20260320T125426Z
UID:10024780-1777458600-1777459500@funnysaventyr.se
SUMMARY:Den Bestøvlede Kat 😼
DESCRIPTION:En snedig kat i store støvler\, der hjælper sin stakkels ejer med at opnå succes\, rigdom og kærlighed.
URL:https://funnysaventyr.se/da/event/den-bestoevlede-kat-%f0%9f%98%bc-19/2026-04-29/
LOCATION:Teaterladan
CATEGORIES:Mesterkatten
END:VEVENT
BEGIN:VEVENT
DTSTART;TZID=Europe/Stockholm:20260429T140000
DTEND;TZID=Europe/Stockholm:20260429T141500
DTSTAMP:20260420T113706
CREATED:20260319T082701Z
LAST-MODIFIED:20260320T124455Z
UID:10024789-1777471200-1777472100@funnysaventyr.se
SUMMARY:Den Bestøvlede Kat 😼
DESCRIPTION:En snedig kat i store støvler\, der hjælper sin stakkels ejer med at opnå succes\, rigdom og kærlighed.
URL:https://funnysaventyr.se/da/event/den-bestoevlede-kat-%f0%9f%98%bc-20/2026-04-29/
LOCATION:Teaterladan
CATEGORIES:Mesterkatten
END:VEVENT
BEGIN:VEVENT
DTSTART;TZID=Europe/Stockholm:20260430T103000
DTEND;TZID=Europe/Stockholm:20260430T104500
DTSTAMP:20260420T113706
CREATED:20260319T082639Z
LAST-MODIFIED:20260320T125426Z
UID:10024781-1777545000-1777545900@funnysaventyr.se
SUMMARY:Den Bestøvlede Kat 😼
DESCRIPTION:En snedig kat i store støvler\, der hjælper sin stakkels ejer med at opnå succes\, rigdom og kærlighed.
URL:https://funnysaventyr.se/da/event/den-bestoevlede-kat-%f0%9f%98%bc-19/2026-04-30/
LOCATION:Teaterladan
CATEGORIES:Mesterkatten
END:VEVENT
BEGIN:VEVENT
DTSTART;TZID=Europe/Stockholm:20260430T140000
DTEND;TZID=Europe/Stockholm:20260430T141500
DTSTAMP:20260420T113706
CREATED:20260319T082701Z
LAST-MODIFIED:20260320T124455Z
UID:10024790-1777557600-1777558500@funnysaventyr.se
SUMMARY:Den Bestøvlede Kat 😼
DESCRIPTION:En snedig kat i store støvler\, der hjælper sin stakkels ejer med at opnå succes\, rigdom og kærlighed.
URL:https://funnysaventyr.se/da/event/den-bestoevlede-kat-%f0%9f%98%bc-20/2026-04-30/
LOCATION:Teaterladan
CATEGORIES:Mesterkatten
END:VEVENT
END:VCALENDAR